Package: scran Version: 1.37.0 Command: /home/rapidbuild/bbs-3.22-bioc-rapid/R/bin/R CMD INSTALL scran StartedAt: 2025-06-28 12:20:00 -0400 (Sat, 28 Jun 2025) EndedAt: 2025-06-28 12:21:00 -0400 (Sat, 28 Jun 2025) EllapsedTime: 59.3 seconds RetCode: 0 Status: OK