Package: scran Version: 1.37.0 Command: /home/rapidbuild/bbs-3.22-bioc-rapid/R/bin/R CMD check --install=check:scran.install-out.txt --library=/home/rapidbuild/bbs-3.22-bioc-rapid/R/site-library --timings scran_1.37.0.tar.gz StartedAt: 2025-06-28 15:10:50 -0400 (Sat, 28 Jun 2025) EndedAt: 2025-06-28 15:20:49 -0400 (Sat, 28 Jun 2025) EllapsedTime: 599.1 seconds RetCode: 0 Status: WARNINGS CheckDir: scran.Rcheck Warnings: 1