Package: scran Version: 1.37.0 Command: /home/rapidbuild/bbs-3.22-bioc-rapid/R/bin/R CMD build --keep-empty-dirs --no-resave-data scran StartedAt: 2025-06-28 13:23:59 -0400 (Sat, 28 Jun 2025) EndedAt: 2025-06-28 13:26:45 -0400 (Sat, 28 Jun 2025) EllapsedTime: 165.6 seconds RetCode: 0 Status: OK PackageFile: scran_1.37.0.tar.gz PackageFileSize: 1.743 MiB