Package: scater Version: 1.37.0 Command: /home/rapidbuild/bbs-3.22-bioc-rapid/R/bin/R CMD INSTALL scater StartedAt: 2025-07-14 06:22:28 -0400 (Mon, 14 Jul 2025) EndedAt: 2025-07-14 06:22:52 -0400 (Mon, 14 Jul 2025) EllapsedTime: 24.4 seconds RetCode: 0 Status: OK