Package: scater Version: 1.37.0 Command: /home/rapidbuild/bbs-3.22-bioc-rapid/R/bin/R CMD build --keep-empty-dirs --no-resave-data scater StartedAt: 2025-07-14 07:29:52 -0400 (Mon, 14 Jul 2025) EndedAt: 2025-07-14 07:31:53 -0400 (Mon, 14 Jul 2025) EllapsedTime: 121.0 seconds RetCode: 0 Status: OK PackageFile: scater_1.37.0.tar.gz PackageFileSize: 4.352 MiB