Package: rtracklayer Version: 1.69.1 Command: /home/rapidbuild/bbs-3.22-bioc-rapid/R/bin/R CMD INSTALL rtracklayer StartedAt: 2025-07-25 06:22:17 -0400 (Fri, 25 Jul 2025) EndedAt: 2025-07-25 06:22:57 -0400 (Fri, 25 Jul 2025) EllapsedTime: 40.2 seconds RetCode: 0 Status: OK