Package: rpx Version: 2.17.0 Command: /home/rapidbuild/bbs-3.22-bioc-rapid/R/bin/R CMD check --install=check:rpx.install-out.txt --library=/home/rapidbuild/bbs-3.22-bioc-rapid/R/site-library --timings rpx_2.17.0.tar.gz StartedAt: 2025-07-01 09:30:55 -0400 (Tue, 01 Jul 2025) EndedAt: 2025-07-01 09:31:41 -0400 (Tue, 01 Jul 2025) EllapsedTime: 46.3 seconds RetCode: 0 Status: OK CheckDir: rpx.Rcheck Warnings: 0