Package: rols Version: 3.5.0 Command: /home/rapidbuild/bbs-3.22-bioc-rapid/R/bin/R CMD INSTALL rols StartedAt: 2025-07-20 06:15:26 -0400 (Sun, 20 Jul 2025) EndedAt: 2025-07-20 06:15:30 -0400 (Sun, 20 Jul 2025) EllapsedTime: 4.2 seconds RetCode: 0 Status: OK