Package: rhdf5filters Version: 1.23.1 Maintainer: Hugo Gruson MaintainerEmail: hugo.gruson at embl.de git_url: https://git.bioconductor.org/packages/rhdf5filters git_branch: devel git_last_commit: 9fa8553 git_last_commit_date: 2025-11-17 09:15:54 -0500 (Mon, 17 Nov 2025)