Package: rhdf5 Version: 2.53.1 Command: /home/rapidbuild/bbs-3.22-bioc-rapid/R/bin/R CMD INSTALL rhdf5 StartedAt: 2025-07-03 06:08:52 -0400 (Thu, 03 Jul 2025) EndedAt: 2025-07-03 06:09:01 -0400 (Thu, 03 Jul 2025) EllapsedTime: 9.4 seconds RetCode: 0 Status: OK