Package: rhdf5 Version: 2.53.1 Command: /home/rapidbuild/bbs-3.22-bioc-rapid/R/bin/R CMD check --install=check:rhdf5.install-out.txt --library=/home/rapidbuild/bbs-3.22-bioc-rapid/R/site-library --timings rhdf5_2.53.1.tar.gz StartedAt: 2025-07-08 09:10:52 -0400 (Tue, 08 Jul 2025) EndedAt: 2025-07-08 09:15:40 -0400 (Tue, 08 Jul 2025) EllapsedTime: 287.8 seconds RetCode: 0 Status: WARNINGS CheckDir: rhdf5.Rcheck Warnings: 1