Package: regioneR Version: 1.41.3 Maintainer: Bernat Gel MaintainerEmail: bgel at imppc.org git_url: https://git.bioconductor.org/packages/regioneR git_branch: devel git_last_commit: 140bec6 git_last_commit_date: 2025-06-21 01:57:42 -0400 (Sat, 21 Jun 2025)