Package: rBiopaxParser Version: 2.49.0 Command: /home/rapidbuild/bbs-3.22-bioc-rapid/R/bin/R CMD INSTALL rBiopaxParser StartedAt: 2025-07-01 06:30:33 -0400 (Tue, 01 Jul 2025) EndedAt: 2025-07-01 06:30:36 -0400 (Tue, 01 Jul 2025) EllapsedTime: 3.2 seconds RetCode: 0 Status: OK