Package: pwalign Version: 1.7.0 Command: /home/rapidbuild/bbs-3.23-bioc-rapid/R/bin/R CMD INSTALL pwalign StartedAt: 2025-11-22 06:14:19 -0500 (Sat, 22 Nov 2025) EndedAt: 2025-11-22 06:14:31 -0500 (Sat, 22 Nov 2025) EllapsedTime: 11.6 seconds RetCode: 0 Status: OK