Package: pwalign Version: 1.7.0 Command: /home/rapidbuild/bbs-3.23-bioc-rapid/R/bin/R CMD check --install=check:pwalign.install-out.txt --library=/home/rapidbuild/bbs-3.23-bioc-rapid/R/site-library --timings pwalign_1.7.0.tar.gz StartedAt: 2025-11-21 09:17:31 -0500 (Fri, 21 Nov 2025) EndedAt: 2025-11-21 09:19:22 -0500 (Fri, 21 Nov 2025) EllapsedTime: 111.3 seconds RetCode: 0 Status: OK CheckDir: pwalign.Rcheck Warnings: 0