Package: phyloseq Version: 1.53.0 Command: /home/rapidbuild/bbs-3.22-bioc-rapid/R/bin/R CMD build --keep-empty-dirs --no-resave-data phyloseq StartedAt: 2025-07-15 07:14:46 -0400 (Tue, 15 Jul 2025) EndedAt: 2025-07-15 07:16:14 -0400 (Tue, 15 Jul 2025) EllapsedTime: 88.2 seconds RetCode: 0 Status: OK PackageFile: phyloseq_1.53.0.tar.gz PackageFileSize: 6.071 MiB