Package: pathview Version: 1.49.0 Command: /home/rapidbuild/bbs-3.22-bioc-rapid/R/bin/R CMD INSTALL pathview StartedAt: 2025-07-23 06:14:20 -0400 (Wed, 23 Jul 2025) EndedAt: 2025-07-23 06:14:34 -0400 (Wed, 23 Jul 2025) EllapsedTime: 13.7 seconds RetCode: 0 Status: OK