Package: pathview Version: 1.49.0 Command: /home/rapidbuild/bbs-3.22-bioc-rapid/R/bin/R CMD check --install=check:pathview.install-out.txt --library=/home/rapidbuild/bbs-3.22-bioc-rapid/R/site-library --timings pathview_1.49.0.tar.gz StartedAt: 2025-07-23 08:45:53 -0400 (Wed, 23 Jul 2025) EndedAt: 2025-07-23 08:50:36 -0400 (Wed, 23 Jul 2025) EllapsedTime: 283.2 seconds RetCode: 0 Status: WARNINGS CheckDir: pathview.Rcheck Warnings: 1