Package: pathview Version: 1.49.0 Command: /home/rapidbuild/bbs-3.22-bioc-rapid/R/bin/R CMD build --keep-empty-dirs --no-resave-data pathview StartedAt: 2025-07-23 07:08:23 -0400 (Wed, 23 Jul 2025) EndedAt: 2025-07-23 07:09:19 -0400 (Wed, 23 Jul 2025) EllapsedTime: 56.3 seconds RetCode: 0 Status: OK PackageFile: pathview_1.49.0.tar.gz PackageFileSize: 2.564 MiB