Package: pRoloc Version: 1.49.0 Command: /home/rapidbuild/bbs-3.22-bioc-rapid/R/bin/R CMD INSTALL pRoloc StartedAt: 2025-07-06 06:25:15 -0400 (Sun, 06 Jul 2025) EndedAt: 2025-07-06 06:26:23 -0400 (Sun, 06 Jul 2025) EllapsedTime: 68.3 seconds RetCode: 0 Status: OK