Package: pRoloc Version: 1.49.0 Command: /home/rapidbuild/bbs-3.22-bioc-rapid/R/bin/R CMD build --keep-empty-dirs --no-resave-data pRoloc StartedAt: 2025-07-06 07:14:43 -0400 (Sun, 06 Jul 2025) EndedAt: 2025-07-06 07:18:00 -0400 (Sun, 06 Jul 2025) EllapsedTime: 197.2 seconds RetCode: 0 Status: OK PackageFile: pRoloc_1.49.0.tar.gz PackageFileSize: 10.8 MiB