Package: maftools Version: 2.25.10 Command: /home/rapidbuild/bbs-3.22-bioc-rapid/R/bin/R CMD build --keep-empty-dirs --no-resave-data maftools StartedAt: 2025-07-25 07:05:53 -0400 (Fri, 25 Jul 2025) EndedAt: 2025-07-25 07:08:24 -0400 (Fri, 25 Jul 2025) EllapsedTime: 150.3 seconds RetCode: 0 Status: OK PackageFile: maftools_2.25.10.tar.gz PackageFileSize: 11.89 MiB