Package: lpsymphony Version: 1.37.0 Command: /home/rapidbuild/bbs-3.22-bioc-rapid/R/bin/R CMD check --install=check:lpsymphony.install-out.txt --library=/home/rapidbuild/bbs-3.22-bioc-rapid/R/site-library --timings lpsymphony_1.37.0.tar.gz StartedAt: 2025-07-08 08:48:13 -0400 (Tue, 08 Jul 2025) EndedAt: 2025-07-08 08:48:32 -0400 (Tue, 08 Jul 2025) EllapsedTime: 19.3 seconds RetCode: 0 Status: WARNINGS CheckDir: lpsymphony.Rcheck Warnings: 1