Package: limma Version: 3.65.1 Command: /home/rapidbuild/bbs-3.22-bioc-rapid/R/bin/R CMD INSTALL limma StartedAt: 2025-07-21 06:12:05 -0400 (Mon, 21 Jul 2025) EndedAt: 2025-07-21 06:12:16 -0400 (Mon, 21 Jul 2025) EllapsedTime: 11.0 seconds RetCode: 0 Status: OK