Package: limma Version: 3.65.1 Command: /home/rapidbuild/bbs-3.22-bioc-rapid/R/bin/R CMD build --keep-empty-dirs --no-resave-data limma StartedAt: 2025-07-21 07:03:00 -0400 (Mon, 21 Jul 2025) EndedAt: 2025-07-21 07:03:19 -0400 (Mon, 21 Jul 2025) EllapsedTime: 19.3 seconds RetCode: 0 Status: OK PackageFile: limma_3.65.1.tar.gz PackageFileSize: 2.714 MiB