Package: keggorthology Version: 2.61.0 Command: /home/rapidbuild/bbs-3.22-bioc-rapid/R/bin/R CMD INSTALL keggorthology StartedAt: 2025-07-14 06:14:58 -0400 (Mon, 14 Jul 2025) EndedAt: 2025-07-14 06:15:08 -0400 (Mon, 14 Jul 2025) EllapsedTime: 10.5 seconds RetCode: 0 Status: OK