Package: keggorthology Version: 2.61.0 Command: /home/rapidbuild/bbs-3.22-bioc-rapid/R/bin/R CMD build --keep-empty-dirs --no-resave-data keggorthology StartedAt: 2025-07-18 07:03:54 -0400 (Fri, 18 Jul 2025) EndedAt: 2025-07-18 07:04:10 -0400 (Fri, 18 Jul 2025) EllapsedTime: 16.3 seconds RetCode: 0 Status: OK PackageFile: keggorthology_2.61.0.tar.gz PackageFileSize: 787.7 KiB