Package: karyoploteR Version: 1.35.3 Command: /home/rapidbuild/bbs-3.22-bioc-rapid/R/bin/R CMD check --install=check:karyoploteR.install-out.txt --library=/home/rapidbuild/bbs-3.22-bioc-rapid/R/site-library --timings karyoploteR_1.35.3.tar.gz StartedAt: 2025-07-20 08:45:09 -0400 (Sun, 20 Jul 2025) EndedAt: 2025-07-20 08:52:15 -0400 (Sun, 20 Jul 2025) EllapsedTime: 426.1 seconds RetCode: 0 Status: OK CheckDir: karyoploteR.Rcheck Warnings: 0