Package: karyoploteR Version: 1.35.3 Command: /home/rapidbuild/bbs-3.22-bioc-rapid/R/bin/R CMD build --keep-empty-dirs --no-resave-data karyoploteR StartedAt: 2025-07-20 07:03:35 -0400 (Sun, 20 Jul 2025) EndedAt: 2025-07-20 07:04:45 -0400 (Sun, 20 Jul 2025) EllapsedTime: 69.3 seconds RetCode: 0 Status: OK PackageFile: karyoploteR_1.35.3.tar.gz PackageFileSize: 2.568 MiB