Package: impute Version: 1.83.0 Command: /home/rapidbuild/bbs-3.22-bioc-rapid/R/bin/R CMD check --install=check:impute.install-out.txt --library=/home/rapidbuild/bbs-3.22-bioc-rapid/R/site-library --timings impute_1.83.0.tar.gz StartedAt: 2025-07-15 08:43:02 -0400 (Tue, 15 Jul 2025) EndedAt: 2025-07-15 08:43:12 -0400 (Tue, 15 Jul 2025) EllapsedTime: 10.3 seconds RetCode: 0 Status: WARNINGS CheckDir: impute.Rcheck Warnings: 1