Package: impute Version: 1.83.0 Command: /home/rapidbuild/bbs-3.22-bioc-rapid/R/bin/R CMD build --keep-empty-dirs --no-resave-data impute StartedAt: 2025-07-14 07:06:28 -0400 (Mon, 14 Jul 2025) EndedAt: 2025-07-14 07:06:29 -0400 (Mon, 14 Jul 2025) EllapsedTime: 1.0 seconds RetCode: 0 Status: OK PackageFile: impute_1.83.0.tar.gz PackageFileSize: 626.6 KiB