Package: hpar Version: 1.51.0 Command: /home/rapidbuild/bbs-3.22-bioc-rapid/R/bin/R CMD INSTALL hpar StartedAt: 2025-10-23 06:21:06 -0400 (Thu, 23 Oct 2025) EndedAt: 2025-10-23 06:21:17 -0400 (Thu, 23 Oct 2025) EllapsedTime: 10.6 seconds RetCode: 0 Status: OK