Package: hpar Version: 1.51.0 Command: /home/rapidbuild/bbs-3.22-bioc-rapid/R/bin/R CMD build --keep-empty-dirs --no-resave-data hpar StartedAt: 2025-10-23 07:02:12 -0400 (Thu, 23 Oct 2025) EndedAt: 2025-10-23 07:02:40 -0400 (Thu, 23 Oct 2025) EllapsedTime: 28.0 seconds RetCode: 0 Status: OK PackageFile: hpar_1.51.0.tar.gz PackageFileSize: 885.3 KiB