Package: gwascat Version: 2.41.1 Command: /home/rapidbuild/bbs-3.22-bioc-rapid/R/bin/R CMD build --keep-empty-dirs --no-resave-data gwascat StartedAt: 2025-10-07 06:59:56 -0400 (Tue, 07 Oct 2025) EndedAt: 2025-10-07 07:01:52 -0400 (Tue, 07 Oct 2025) EllapsedTime: 116.0 seconds RetCode: 0 Status: OK PackageFile: gwascat_2.41.1.tar.gz PackageFileSize: 33.95 MiB