Package: graph Version: 1.87.0 Command: /home/rapidbuild/bbs-3.22-bioc-rapid/R/bin/R CMD check --install=check:graph.install-out.txt --library=/home/rapidbuild/bbs-3.22-bioc-rapid/R/site-library --timings graph_1.87.0.tar.gz StartedAt: 2025-07-19 08:35:01 -0400 (Sat, 19 Jul 2025) EndedAt: 2025-07-19 08:35:50 -0400 (Sat, 19 Jul 2025) EllapsedTime: 48.3 seconds RetCode: 0 Status: OK CheckDir: graph.Rcheck Warnings: 0