Package: graph Version: 1.87.0 Command: /home/rapidbuild/bbs-3.22-bioc-rapid/R/bin/R CMD build --keep-empty-dirs --no-resave-data graph StartedAt: 2025-07-19 06:56:38 -0400 (Sat, 19 Jul 2025) EndedAt: 2025-07-19 06:57:00 -0400 (Sat, 19 Jul 2025) EllapsedTime: 22.3 seconds RetCode: 0 Status: OK PackageFile: graph_1.87.0.tar.gz PackageFileSize: 1.429 MiB