Package: ggcyto Version: 1.37.1 Command: /home/rapidbuild/bbs-3.22-bioc-rapid/R/bin/R CMD INSTALL ggcyto StartedAt: 2025-10-13 06:22:52 -0400 (Mon, 13 Oct 2025) EndedAt: 2025-10-13 06:23:04 -0400 (Mon, 13 Oct 2025) EllapsedTime: 12.0 seconds RetCode: 0 Status: OK