Package: ggcyto Version: 1.37.1 Command: /home/rapidbuild/bbs-3.22-bioc-rapid/R/bin/R CMD check --install=check:ggcyto.install-out.txt --library=/home/rapidbuild/bbs-3.22-bioc-rapid/R/site-library --timings ggcyto_1.37.1.tar.gz StartedAt: 2025-10-13 08:33:37 -0400 (Mon, 13 Oct 2025) EndedAt: 2025-10-13 08:36:50 -0400 (Mon, 13 Oct 2025) EllapsedTime: 193.6 seconds RetCode: 0 Status: WARNINGS CheckDir: ggcyto.Rcheck Warnings: 2