Package: geneplotter Version: 1.87.0 Command: /home/rapidbuild/bbs-3.22-bioc-rapid/R/bin/R CMD check --install=check:geneplotter.install-out.txt --library=/home/rapidbuild/bbs-3.22-bioc-rapid/R/site-library --timings geneplotter_1.87.0.tar.gz StartedAt: 2025-07-15 08:28:23 -0400 (Tue, 15 Jul 2025) EndedAt: 2025-07-15 08:29:56 -0400 (Tue, 15 Jul 2025) EllapsedTime: 93.0 seconds RetCode: 0 Status: OK CheckDir: geneplotter.Rcheck Warnings: 0