Package: gdsfmt Version: 1.45.1 Command: /home/rapidbuild/bbs-3.22-bioc-rapid/R/bin/R CMD INSTALL gdsfmt StartedAt: 2025-07-15 06:05:53 -0400 (Tue, 15 Jul 2025) EndedAt: 2025-07-15 06:08:49 -0400 (Tue, 15 Jul 2025) EllapsedTime: 175.8 seconds RetCode: 0 Status: OK