Package: gdsfmt Version: 1.45.1 Command: /home/rapidbuild/bbs-3.22-bioc-rapid/R/bin/R CMD check --install=check:gdsfmt.install-out.txt --library=/home/rapidbuild/bbs-3.22-bioc-rapid/R/site-library --timings gdsfmt_1.45.1.tar.gz StartedAt: 2025-07-15 08:26:49 -0400 (Tue, 15 Jul 2025) EndedAt: 2025-07-15 08:28:23 -0400 (Tue, 15 Jul 2025) EllapsedTime: 93.3 seconds RetCode: 0 Status: OK CheckDir: gdsfmt.Rcheck Warnings: 0