Package: gdsfmt Version: 1.45.1 Command: /home/rapidbuild/bbs-3.22-bioc-rapid/R/bin/R CMD build --keep-empty-dirs --no-resave-data gdsfmt StartedAt: 2025-07-17 06:54:46 -0400 (Thu, 17 Jul 2025) EndedAt: 2025-07-17 06:57:44 -0400 (Thu, 17 Jul 2025) EllapsedTime: 178.5 seconds RetCode: 0 Status: OK PackageFile: gdsfmt_1.45.1.tar.gz PackageFileSize: 2.796 MiB