Package: gcrma Version: 2.81.0 Command: /home/rapidbuild/bbs-3.22-bioc-rapid/R/bin/R CMD INSTALL gcrma StartedAt: 2025-07-22 06:13:38 -0400 (Tue, 22 Jul 2025) EndedAt: 2025-07-22 06:13:47 -0400 (Tue, 22 Jul 2025) EllapsedTime: 8.6 seconds RetCode: 0 Status: OK