Package: gcrma Version: 2.81.0 Command: /home/rapidbuild/bbs-3.22-bioc-rapid/R/bin/R CMD build --keep-empty-dirs --no-resave-data gcrma StartedAt: 2025-07-22 06:51:42 -0400 (Tue, 22 Jul 2025) EndedAt: 2025-07-22 06:51:53 -0400 (Tue, 22 Jul 2025) EllapsedTime: 11.3 seconds RetCode: 0 Status: OK PackageFile: gcrma_2.81.0.tar.gz PackageFileSize: 288.3 KiB