Package: gage Version: 2.59.0 Command: /home/rapidbuild/bbs-3.22-bioc-rapid/R/bin/R CMD check --install=check:gage.install-out.txt --library=/home/rapidbuild/bbs-3.22-bioc-rapid/R/site-library --timings gage_2.59.0.tar.gz StartedAt: 2025-07-13 08:24:34 -0400 (Sun, 13 Jul 2025) EndedAt: 2025-07-13 08:27:37 -0400 (Sun, 13 Jul 2025) EllapsedTime: 182.3 seconds RetCode: 0 Status: WARNINGS CheckDir: gage.Rcheck Warnings: 2