Package: gage Version: 2.59.0 Command: /home/rapidbuild/bbs-3.22-bioc-rapid/R/bin/R CMD build --keep-empty-dirs --no-resave-data gage StartedAt: 2025-07-03 06:54:00 -0400 (Thu, 03 Jul 2025) EndedAt: 2025-07-03 06:55:49 -0400 (Thu, 03 Jul 2025) EllapsedTime: 109.1 seconds RetCode: 0 Status: OK PackageFile: gage_2.59.0.tar.gz PackageFileSize: 4.331 MiB