Package: flowWorkspace Version: 4.21.0 Command: /home/rapidbuild/bbs-3.22-bioc-rapid/R/bin/R CMD INSTALL flowWorkspace StartedAt: 2025-07-15 06:21:55 -0400 (Tue, 15 Jul 2025) EndedAt: 2025-07-15 06:23:49 -0400 (Tue, 15 Jul 2025) EllapsedTime: 114.6 seconds RetCode: 0 Status: OK