Package: flowWorkspace Version: 4.21.0 Command: /home/rapidbuild/bbs-3.22-bioc-rapid/R/bin/R CMD build --keep-empty-dirs --no-resave-data flowWorkspace StartedAt: 2025-07-15 06:51:25 -0400 (Tue, 15 Jul 2025) EndedAt: 2025-07-15 06:53:25 -0400 (Tue, 15 Jul 2025) EllapsedTime: 120.2 seconds RetCode: 1 Status: ERROR PackageFile: None PackageFileSize: NA