Package: flowViz Version: 1.73.0 Command: /home/rapidbuild/bbs-3.22-bioc-rapid/R/bin/R CMD INSTALL flowViz StartedAt: 2025-07-21 06:11:12 -0400 (Mon, 21 Jul 2025) EndedAt: 2025-07-21 06:11:20 -0400 (Mon, 21 Jul 2025) EllapsedTime: 8.2 seconds RetCode: 0 Status: OK