Package: flowViz Version: 1.73.0 Command: /home/rapidbuild/bbs-3.22-bioc-rapid/R/bin/R CMD build --keep-empty-dirs --no-resave-data flowViz StartedAt: 2025-07-21 06:49:46 -0400 (Mon, 21 Jul 2025) EndedAt: 2025-07-21 06:50:39 -0400 (Mon, 21 Jul 2025) EllapsedTime: 53.3 seconds RetCode: 0 Status: OK PackageFile: flowViz_1.73.0.tar.gz PackageFileSize: 989.8 KiB